BEGIN:VCALENDAR
VERSION:2.0
PRODID:-//Viktoria Alpen Tennis - ECPv6.3.7//NONSGML v1.0//EN
CALSCALE:GREGORIAN
METHOD:PUBLISH
X-ORIGINAL-URL:https://www.viktoria-alpen-tennis.de
X-WR-CALDESC:Veranstaltungen für Viktoria Alpen Tennis
REFRESH-INTERVAL;VALUE=DURATION:PT1H
X-Robots-Tag:noindex
X-PUBLISHED-TTL:PT1H
BEGIN:VTIMEZONE
TZID:Europe/Berlin
BEGIN:DAYLIGHT
TZOFFSETFROM:+0100
TZOFFSETTO:+0200
TZNAME:CEST
DTSTART:20230326T010000
END:DAYLIGHT
BEGIN:STANDARD
TZOFFSETFROM:+0200
TZOFFSETTO:+0100
TZNAME:CET
DTSTART:20231029T010000
END:STANDARD
END:VTIMEZONE
BEGIN:VEVENT
DTSTART;TZID=Europe/Berlin:20230603T140000
DTEND;TZID=Europe/Berlin:20230603T190000
DTSTAMP:20260420T102727
CREATED:20230420T212748Z
LAST-MODIFIED:20230420T212748Z
UID:1029-1685800800-1685818800@www.viktoria-alpen-tennis.de
SUMMARY:Medenspiel D30 (Auswärts)
DESCRIPTION:GW Büttgen 1
URL:https://www.viktoria-alpen-tennis.de/veranstaltung/medenspiel-d30-auswaerts-2/
LOCATION:Auswärts
CATEGORIES:Spielbetrieb
END:VEVENT
BEGIN:VEVENT
DTSTART;TZID=Europe/Berlin:20230603T140000
DTEND;TZID=Europe/Berlin:20230603T190000
DTSTAMP:20260420T102727
CREATED:20230420T212748Z
LAST-MODIFIED:20230420T212748Z
UID:1030-1685800800-1685818800@www.viktoria-alpen-tennis.de
SUMMARY:Medenspiel H40 (Heim)
DESCRIPTION:TV Schwafheim 2
URL:https://www.viktoria-alpen-tennis.de/veranstaltung/medenspiel-h40-heim-2/
LOCATION:Alpen
CATEGORIES:Spielbetrieb
END:VEVENT
BEGIN:VEVENT
DTSTART;TZID=Europe/Berlin:20230530T163000
DTEND;TZID=Europe/Berlin:20230530T193000
DTSTAMP:20260420T102727
CREATED:20230503T090502Z
LAST-MODIFIED:20230503T093930Z
UID:1146-1685464200-1685475000@www.viktoria-alpen-tennis.de
SUMMARY:Medenspiel U18 Junioren (Heim)
DESCRIPTION:TC Sonsbeck
URL:https://www.viktoria-alpen-tennis.de/veranstaltung/medenspiel-u18-junioren-heim-2/
LOCATION:Alpen
CATEGORIES:Spielbetrieb
END:VEVENT
BEGIN:VEVENT
DTSTART;TZID=Europe/Berlin:20230530T100000
DTEND;TZID=Europe/Berlin:20230530T150000
DTSTAMP:20260420T102727
CREATED:20230420T212748Z
LAST-MODIFIED:20230420T212748Z
UID:1028-1685440800-1685458800@www.viktoria-alpen-tennis.de
SUMMARY:Medenspiel H65_2 (Auswärts)
DESCRIPTION:TC Kellen e.V. 2
URL:https://www.viktoria-alpen-tennis.de/veranstaltung/medenspiel-h65_2-auswaerts-2/
LOCATION:Auswärts
CATEGORIES:Spielbetrieb
END:VEVENT
BEGIN:VEVENT
DTSTART;TZID=Europe/Berlin:20230525T160000
DTEND;TZID=Europe/Berlin:20230525T190000
DTSTAMP:20260420T102727
CREATED:20230503T093932Z
LAST-MODIFIED:20230503T093932Z
UID:1158-1685030400-1685041200@www.viktoria-alpen-tennis.de
SUMMARY:Medenspiel U15 Junioren (Auswärts)
DESCRIPTION:TC Solvay
URL:https://www.viktoria-alpen-tennis.de/veranstaltung/medenspiel-u15-junioren-auswaerts-2/
LOCATION:Auswärts
CATEGORIES:Spielbetrieb
END:VEVENT
BEGIN:VEVENT
DTSTART;TZID=Europe/Berlin:20230523T100000
DTEND;TZID=Europe/Berlin:20230523T150000
DTSTAMP:20260420T102727
CREATED:20230420T212747Z
LAST-MODIFIED:20230420T212747Z
UID:1027-1684836000-1684854000@www.viktoria-alpen-tennis.de
SUMMARY:Medenspiel H65_2 (Auswärts)
DESCRIPTION:RW Emmerich 1
URL:https://www.viktoria-alpen-tennis.de/veranstaltung/medenspiel-h65_2-auswaerts/
LOCATION:Auswärts
CATEGORIES:Spielbetrieb
END:VEVENT
BEGIN:VEVENT
DTSTART;TZID=Europe/Berlin:20230521T143000
DTEND;TZID=Europe/Berlin:20230521T193000
DTSTAMP:20260420T102727
CREATED:20230420T212733Z
LAST-MODIFIED:20230420T212733Z
UID:1026-1684679400-1684697400@www.viktoria-alpen-tennis.de
SUMMARY:Medenspiel H50 (Auswärts)
DESCRIPTION:GW Reichswalde 1
URL:https://www.viktoria-alpen-tennis.de/veranstaltung/medenspiel-h50-auswaerts-2/
LOCATION:Auswärts
CATEGORIES:Spielbetrieb
END:VEVENT
BEGIN:VEVENT
DTSTART;TZID=Europe/Berlin:20230521T090000
DTEND;TZID=Europe/Berlin:20230521T140000
DTSTAMP:20260420T102727
CREATED:20230420T212733Z
LAST-MODIFIED:20230420T212733Z
UID:1025-1684659600-1684677600@www.viktoria-alpen-tennis.de
SUMMARY:Medenspiel D00 (Heim)
DESCRIPTION:TC Sevelen 1
URL:https://www.viktoria-alpen-tennis.de/veranstaltung/medenspiel-d00-heim/
LOCATION:Alpen
CATEGORIES:Spielbetrieb
END:VEVENT
BEGIN:VEVENT
DTSTART;TZID=Europe/Berlin:20230520T140000
DTEND;TZID=Europe/Berlin:20230520T190000
DTSTAMP:20260420T102727
CREATED:20230420T212733Z
LAST-MODIFIED:20230420T212733Z
UID:1024-1684591200-1684609200@www.viktoria-alpen-tennis.de
SUMMARY:Medenspiel D50 (Heim)
DESCRIPTION:BW Krefeld 2
URL:https://www.viktoria-alpen-tennis.de/veranstaltung/medenspiel-d50-heim-3/
LOCATION:Alpen
CATEGORIES:Spielbetrieb
END:VEVENT
BEGIN:VEVENT
DTSTART;TZID=Europe/Berlin:20230520T140000
DTEND;TZID=Europe/Berlin:20230520T190000
DTSTAMP:20260420T102727
CREATED:20230420T212733Z
LAST-MODIFIED:20230420T212733Z
UID:1023-1684591200-1684609200@www.viktoria-alpen-tennis.de
SUMMARY:Medenspiel D40 (Auswärts)
DESCRIPTION:Sportpark Moers-Asberg 1
URL:https://www.viktoria-alpen-tennis.de/veranstaltung/medenspiel-d40-auswaerts/
LOCATION:Auswärts
CATEGORIES:Spielbetrieb
END:VEVENT
BEGIN:VEVENT
DTSTART;TZID=Europe/Berlin:20230516T100000
DTEND;TZID=Europe/Berlin:20230516T150000
DTSTAMP:20260420T102727
CREATED:20230420T212732Z
LAST-MODIFIED:20230420T212732Z
UID:1022-1684231200-1684249200@www.viktoria-alpen-tennis.de
SUMMARY:Medenspiel H65 (Heim)
DESCRIPTION:BG Eigen 1
URL:https://www.viktoria-alpen-tennis.de/veranstaltung/medenspiel-h65-heim-2/
LOCATION:Alpen
CATEGORIES:Spielbetrieb
END:VEVENT
BEGIN:VEVENT
DTSTART;TZID=Europe/Berlin:20230514T090000
DTEND;TZID=Europe/Berlin:20230514T140000
DTSTAMP:20260420T102727
CREATED:20230420T212718Z
LAST-MODIFIED:20230420T212718Z
UID:1020-1684054800-1684072800@www.viktoria-alpen-tennis.de
SUMMARY:Medenspiel H40 (Auswärts)
DESCRIPTION:BW Moers 1
URL:https://www.viktoria-alpen-tennis.de/veranstaltung/medenspiel-h40-auswaerts/
LOCATION:Auswärts
CATEGORIES:Spielbetrieb
END:VEVENT
BEGIN:VEVENT
DTSTART;TZID=Europe/Berlin:20230514T090000
DTEND;TZID=Europe/Berlin:20230514T140000
DTSTAMP:20260420T102727
CREATED:20230420T212718Z
LAST-MODIFIED:20230420T212718Z
UID:1018-1684054800-1684072800@www.viktoria-alpen-tennis.de
SUMMARY:Medenspiel H00 (Auswärts)
DESCRIPTION:BW Kamp-Lintfort 2
URL:https://www.viktoria-alpen-tennis.de/veranstaltung/medenspiel-h00-auswaerts/
LOCATION:Auswärts
CATEGORIES:Spielbetrieb
END:VEVENT
BEGIN:VEVENT
DTSTART;TZID=Europe/Berlin:20230514T090000
DTEND;TZID=Europe/Berlin:20230514T140000
DTSTAMP:20260420T102727
CREATED:20230420T212718Z
LAST-MODIFIED:20230420T212718Z
UID:1021-1684054800-1684072800@www.viktoria-alpen-tennis.de
SUMMARY:Medenspiel H50 (Auswärts)
DESCRIPTION:BW Issum 1
URL:https://www.viktoria-alpen-tennis.de/veranstaltung/medenspiel-h50-auswaerts/
LOCATION:Auswärts
CATEGORIES:Spielbetrieb
END:VEVENT
BEGIN:VEVENT
DTSTART;TZID=Europe/Berlin:20230514T090000
DTEND;TZID=Europe/Berlin:20230514T140000
DTSTAMP:20260420T102727
CREATED:20230420T212718Z
LAST-MODIFIED:20230420T212718Z
UID:1019-1684054800-1684072800@www.viktoria-alpen-tennis.de
SUMMARY:Medenspiel D50 (Heim)
DESCRIPTION:Germania Hoisten 1
URL:https://www.viktoria-alpen-tennis.de/veranstaltung/medenspiel-d50-heim-2/
LOCATION:Alpen
CATEGORIES:Spielbetrieb
END:VEVENT
BEGIN:VEVENT
DTSTART;TZID=Europe/Berlin:20230513T140000
DTEND;TZID=Europe/Berlin:20230513T190000
DTSTAMP:20260420T102727
CREATED:20230420T212717Z
LAST-MODIFIED:20230420T212717Z
UID:1017-1683986400-1684004400@www.viktoria-alpen-tennis.de
SUMMARY:Medenspiel D30 (Heim)
DESCRIPTION:BW Issum 1
URL:https://www.viktoria-alpen-tennis.de/veranstaltung/medenspiel-d30-heim/
LOCATION:Alpen
CATEGORIES:Spielbetrieb
END:VEVENT
BEGIN:VEVENT
DTSTART;TZID=Europe/Berlin:20230513T140000
DTEND;TZID=Europe/Berlin:20230513T190000
DTSTAMP:20260420T102727
CREATED:20230420T212704Z
LAST-MODIFIED:20230420T212704Z
UID:1016-1683986400-1684004400@www.viktoria-alpen-tennis.de
SUMMARY:Medenspiel D40 (Heim)
DESCRIPTION:GW Reichswalde 1
URL:https://www.viktoria-alpen-tennis.de/veranstaltung/medenspiel-d40-heim-2/
LOCATION:Alpen
CATEGORIES:Spielbetrieb
END:VEVENT
BEGIN:VEVENT
DTSTART;TZID=Europe/Berlin:20230511T163000
DTEND;TZID=Europe/Berlin:20230511T193000
DTSTAMP:20260420T102727
CREATED:20230503T090501Z
LAST-MODIFIED:20230503T093930Z
UID:1145-1683822600-1683833400@www.viktoria-alpen-tennis.de
SUMMARY:Medenspiel U18 Junioren (Heim)
DESCRIPTION:TV Schwafheim
URL:https://www.viktoria-alpen-tennis.de/veranstaltung/medenspiel-u18-junioren-heim/
LOCATION:Alpen
CATEGORIES:Spielbetrieb
END:VEVENT
BEGIN:VEVENT
DTSTART;TZID=Europe/Berlin:20230511T160000
DTEND;TZID=Europe/Berlin:20230511T190000
DTSTAMP:20260420T102727
CREATED:20230503T090503Z
LAST-MODIFIED:20230503T093933Z
UID:1149-1683820800-1683831600@www.viktoria-alpen-tennis.de
SUMMARY:Medenspiel U15 Juniorinnen (Auswärts)
DESCRIPTION:BW Moers
URL:https://www.viktoria-alpen-tennis.de/veranstaltung/medenspiel-u15-juniorinnen-auswaerts/
LOCATION:Auswärts
CATEGORIES:Spielbetrieb
END:VEVENT
BEGIN:VEVENT
DTSTART;TZID=Europe/Berlin:20230509T100000
DTEND;TZID=Europe/Berlin:20230509T150000
DTSTAMP:20260420T102727
CREATED:20230420T212703Z
LAST-MODIFIED:20230420T212703Z
UID:1015-1683626400-1683644400@www.viktoria-alpen-tennis.de
SUMMARY:Medenspiel H65 (Auswärts)
DESCRIPTION:TC Gruiten 1
URL:https://www.viktoria-alpen-tennis.de/veranstaltung/medenspiel-h65-auswaerts/
LOCATION:Auswärts
CATEGORIES:Spielbetrieb
END:VEVENT
BEGIN:VEVENT
DTSTART;TZID=Europe/Berlin:20230508T163000
DTEND;TZID=Europe/Berlin:20230508T193000
DTSTAMP:20260420T102727
CREATED:20230503T093931Z
LAST-MODIFIED:20230503T093931Z
UID:1157-1683563400-1683574200@www.viktoria-alpen-tennis.de
SUMMARY:Medenspiel U15 Junioren (Heim)
DESCRIPTION:TC Xanten
URL:https://www.viktoria-alpen-tennis.de/veranstaltung/medenspiel-u15-junioren-heim/
LOCATION:Alpen
CATEGORIES:Spielbetrieb
END:VEVENT
BEGIN:VEVENT
DTSTART;TZID=Europe/Berlin:20230507T090000
DTEND;TZID=Europe/Berlin:20230507T140000
DTSTAMP:20260420T102727
CREATED:20230420T212703Z
LAST-MODIFIED:20230420T212703Z
UID:1014-1683450000-1683468000@www.viktoria-alpen-tennis.de
SUMMARY:Medenspiel D00 (Auswärts)
DESCRIPTION:BW Issum 2
URL:https://www.viktoria-alpen-tennis.de/veranstaltung/medenspiel-d00-auswaerts/
LOCATION:Auswärts
CATEGORIES:Spielbetrieb
END:VEVENT
BEGIN:VEVENT
DTSTART;TZID=Europe/Berlin:20230507T090000
DTEND;TZID=Europe/Berlin:20230507T140000
DTSTAMP:20260420T102727
CREATED:20230420T212703Z
LAST-MODIFIED:20230420T212703Z
UID:1012-1683450000-1683468000@www.viktoria-alpen-tennis.de
SUMMARY:Medenspiel D50 (Heim)
DESCRIPTION:TC Hardt 1
URL:https://www.viktoria-alpen-tennis.de/veranstaltung/medenspiel-d50-heim/
LOCATION:Alpen
CATEGORIES:Spielbetrieb
END:VEVENT
BEGIN:VEVENT
DTSTART;TZID=Europe/Berlin:20230507T090000
DTEND;TZID=Europe/Berlin:20230507T140000
DTSTAMP:20260420T102727
CREATED:20230420T212703Z
LAST-MODIFIED:20230420T212703Z
UID:1013-1683450000-1683468000@www.viktoria-alpen-tennis.de
SUMMARY:Medenspiel H40 (Heim)
DESCRIPTION:Kapellener TC 1
URL:https://www.viktoria-alpen-tennis.de/veranstaltung/medenspiel-h40-heim/
LOCATION:Alpen
CATEGORIES:Spielbetrieb
END:VEVENT
BEGIN:VEVENT
DTSTART;TZID=Europe/Berlin:20230506T140000
DTEND;TZID=Europe/Berlin:20230506T190000
DTSTAMP:20260420T102727
CREATED:20230420T212701Z
LAST-MODIFIED:20230420T212701Z
UID:1010-1683381600-1683399600@www.viktoria-alpen-tennis.de
SUMMARY:Medenspiel D30 (Auswärts)
DESCRIPTION:Krefelder TG 1
URL:https://www.viktoria-alpen-tennis.de/veranstaltung/medenspiel-d30-auswaerts/
LOCATION:Auswärts
CATEGORIES:Spielbetrieb
END:VEVENT
BEGIN:VEVENT
DTSTART;TZID=Europe/Berlin:20230506T140000
DTEND;TZID=Europe/Berlin:20230506T190000
DTSTAMP:20260420T102727
CREATED:20230420T212701Z
LAST-MODIFIED:20230420T212701Z
UID:1011-1683381600-1683399600@www.viktoria-alpen-tennis.de
SUMMARY:Medenspiel D40 (Heim)
DESCRIPTION:SG Rheinkamp-Repelen 1
URL:https://www.viktoria-alpen-tennis.de/veranstaltung/medenspiel-d40-heim/
LOCATION:Alpen
CATEGORIES:Spielbetrieb
END:VEVENT
BEGIN:VEVENT
DTSTART;TZID=Europe/Berlin:20230506T140000
DTEND;TZID=Europe/Berlin:20230506T190000
DTSTAMP:20260420T102727
CREATED:20230420T212700Z
LAST-MODIFIED:20230420T212700Z
UID:1009-1683381600-1683399600@www.viktoria-alpen-tennis.de
SUMMARY:Medenspiel H50 (Heim)
DESCRIPTION:Alemannia Kamp 1
URL:https://www.viktoria-alpen-tennis.de/veranstaltung/medenspiel-h50-heim/
LOCATION:Alpen
CATEGORIES:Spielbetrieb
END:VEVENT
BEGIN:VEVENT
DTSTART;TZID=Europe/Berlin:20230504T163000
DTEND;TZID=Europe/Berlin:20230504T193000
DTSTAMP:20260420T102727
CREATED:20230503T093930Z
LAST-MODIFIED:20230503T093930Z
UID:1156-1683217800-1683228600@www.viktoria-alpen-tennis.de
SUMMARY:Medenspiel U15 Junioren (Auswärts)
DESCRIPTION:SV Budberg
URL:https://www.viktoria-alpen-tennis.de/veranstaltung/medenspiel-u15-junioren-auswaerts/
LOCATION:Auswärts
CATEGORIES:Spielbetrieb
END:VEVENT
BEGIN:VEVENT
DTSTART;TZID=Europe/Berlin:20230504T163000
DTEND;TZID=Europe/Berlin:20230504T193000
DTSTAMP:20260420T102727
CREATED:20230503T090502Z
LAST-MODIFIED:20230503T093933Z
UID:1148-1683217800-1683228600@www.viktoria-alpen-tennis.de
SUMMARY:Medenspiel U15 Juniorinnen (Heim)
DESCRIPTION:TC RW Vluyn
URL:https://www.viktoria-alpen-tennis.de/veranstaltung/medenspiel-u15-juniorinnen-heim/
LOCATION:Alpen
CATEGORIES:Spielbetrieb
END:VEVENT
BEGIN:VEVENT
DTSTART;TZID=Europe/Berlin:20230502T100000
DTEND;TZID=Europe/Berlin:20230502T150000
DTSTAMP:20260420T102727
CREATED:20230420T212700Z
LAST-MODIFIED:20230420T212700Z
UID:1007-1683021600-1683039600@www.viktoria-alpen-tennis.de
SUMMARY:Medenspiel H65 (Heim)
DESCRIPTION:TuB Bocholt 1
URL:https://www.viktoria-alpen-tennis.de/veranstaltung/medenspiel-h65-heim/
LOCATION:Alpen
CATEGORIES:Spielbetrieb
END:VEVENT
END:VCALENDAR