BEGIN:VCALENDAR
VERSION:2.0
PRODID:-//Viktoria Alpen Tennis - ECPv6.3.7//NONSGML v1.0//EN
CALSCALE:GREGORIAN
METHOD:PUBLISH
X-WR-CALNAME:Viktoria Alpen Tennis
X-ORIGINAL-URL:https://www.viktoria-alpen-tennis.de
X-WR-CALDESC:Veranstaltungen für Viktoria Alpen Tennis
REFRESH-INTERVAL;VALUE=DURATION:PT1H
X-Robots-Tag:noindex
X-PUBLISHED-TTL:PT1H
BEGIN:VTIMEZONE
TZID:Europe/Berlin
BEGIN:DAYLIGHT
TZOFFSETFROM:+0100
TZOFFSETTO:+0200
TZNAME:CEST
DTSTART:20250330T010000
END:DAYLIGHT
BEGIN:STANDARD
TZOFFSETFROM:+0200
TZOFFSETTO:+0100
TZNAME:CET
DTSTART:20251026T010000
END:STANDARD
END:VTIMEZONE
BEGIN:VEVENT
DTSTART;TZID=Europe/Berlin:20250503T103000
DTEND;TZID=Europe/Berlin:20250503T123000
DTSTAMP:20260422T142758
CREATED:20250408T140520Z
LAST-MODIFIED:20250408T140520Z
UID:2148-1746268200-1746275400@www.viktoria-alpen-tennis.de
SUMMARY:Samstagsvormittagstennis
DESCRIPTION:Einfach vorbeikommen und in ungezwungener Atmosphäre ein bisschen Tennis spielen. Erfahrene Spieler sind in der Regel dabei\, kommt einfach ohne Anmeldung. Bei Fragen wendet ihr euch an Stephan Max\, 0175-2796617
URL:https://www.viktoria-alpen-tennis.de/veranstaltung/samstagsvormittagstennis-12/
CATEGORIES:Events im Club,Medenspiele/Pokal,Spielbetrieb,Veranstaltung
END:VEVENT
BEGIN:VEVENT
DTSTART;TZID=Europe/Berlin:20250520T100000
DTEND;TZID=Europe/Berlin:20250520T100000
DTSTAMP:20260422T142758
CREATED:20250327T201853Z
LAST-MODIFIED:20250327T201915Z
UID:2045-1747735200-1747735200@www.viktoria-alpen-tennis.de
SUMMARY:Heimspiel Herren 65
DESCRIPTION:
URL:https://www.viktoria-alpen-tennis.de/veranstaltung/heimspiel-herren-65-4/
END:VEVENT
BEGIN:VEVENT
DTSTART;TZID=Europe/Berlin:20250506T100000
DTEND;TZID=Europe/Berlin:20250506T150000
DTSTAMP:20260422T142758
CREATED:20250327T201959Z
LAST-MODIFIED:20250327T201959Z
UID:2047-1746525600-1746543600@www.viktoria-alpen-tennis.de
SUMMARY:Heimspiel Herren 65
DESCRIPTION:
URL:https://www.viktoria-alpen-tennis.de/veranstaltung/heimspiel-herren-65-5/
END:VEVENT
BEGIN:VEVENT
DTSTART;TZID=Europe/Berlin:20250506T100000
DTEND;TZID=Europe/Berlin:20250506T150000
DTSTAMP:20260422T142758
CREATED:20250327T202313Z
LAST-MODIFIED:20250327T202313Z
UID:2052-1746525600-1746543600@www.viktoria-alpen-tennis.de
SUMMARY:Heimspiel Herren 65
DESCRIPTION:
URL:https://www.viktoria-alpen-tennis.de/veranstaltung/heimspiel-herren-65-7/
CATEGORIES:Medenspiele/Pokal,Spielbetrieb,Veranstaltung
END:VEVENT
BEGIN:VEVENT
DTSTART;TZID=Europe/Berlin:20250510T103000
DTEND;TZID=Europe/Berlin:20250510T123000
DTSTAMP:20260422T142758
CREATED:20250408T140733Z
LAST-MODIFIED:20250408T140733Z
UID:2150-1746873000-1746880200@www.viktoria-alpen-tennis.de
SUMMARY:Samstagsvormittagstennis
DESCRIPTION:Einfach vorbeikommen und in ungezwungener Atmosphäre ein bisschen Tennis spielen. Erfahrene Spieler sind in der Regel dabei\, kommt einfach ohne Anmeldung. Bei Fragen wendet ihr euch an Stephan Max\, 0175-2796617
URL:https://www.viktoria-alpen-tennis.de/veranstaltung/samstagsvormittagstennis-13/
CATEGORIES:Events im Club,Medenspiele/Pokal,Spielbetrieb,Veranstaltung
END:VEVENT
BEGIN:VEVENT
DTSTART;TZID=Europe/Berlin:20250510T140000
DTEND;TZID=Europe/Berlin:20250510T210000
DTSTAMP:20260422T142758
CREATED:20250327T203032Z
LAST-MODIFIED:20250327T203032Z
UID:2070-1746885600-1746910800@www.viktoria-alpen-tennis.de
SUMMARY:Heimspiel Damen 40
DESCRIPTION:
URL:https://www.viktoria-alpen-tennis.de/veranstaltung/heimspiel-damen-40/
CATEGORIES:Medenspiele/Pokal,Spielbetrieb,Veranstaltung
END:VEVENT
BEGIN:VEVENT
DTSTART;TZID=Europe/Berlin:20250510T140000
DTEND;TZID=Europe/Berlin:20250510T210000
DTSTAMP:20260422T142758
CREATED:20250327T210922Z
LAST-MODIFIED:20250327T210922Z
UID:2093-1746885600-1746910800@www.viktoria-alpen-tennis.de
SUMMARY:Heimspiel Damen 50
DESCRIPTION:
URL:https://www.viktoria-alpen-tennis.de/veranstaltung/heimspiel-damen-50-3/
CATEGORIES:Medenspiele/Pokal,Spielbetrieb,Veranstaltung
END:VEVENT
BEGIN:VEVENT
DTSTART;TZID=Europe/Berlin:20250511T090000
DTEND;TZID=Europe/Berlin:20250511T140000
DTSTAMP:20260422T142758
CREATED:20250327T210320Z
LAST-MODIFIED:20250327T210320Z
UID:2075-1746954000-1746972000@www.viktoria-alpen-tennis.de
SUMMARY:Herren 30 1
DESCRIPTION:
URL:https://www.viktoria-alpen-tennis.de/veranstaltung/herren-30-1/
CATEGORIES:Medenspiele/Pokal,Spielbetrieb,Veranstaltung
END:VEVENT
BEGIN:VEVENT
DTSTART;TZID=Europe/Berlin:20250511T090000
DTEND;TZID=Europe/Berlin:20250511T170000
DTSTAMP:20260422T142758
CREATED:20250327T202827Z
LAST-MODIFIED:20250327T202827Z
UID:2064-1746954000-1746982800@www.viktoria-alpen-tennis.de
SUMMARY:Heimspiel Damen 1
DESCRIPTION:
URL:https://www.viktoria-alpen-tennis.de/veranstaltung/heimspiel-damen-1-3/
CATEGORIES:Medenspiele/Pokal,Spielbetrieb,Veranstaltung
END:VEVENT
BEGIN:VEVENT
DTSTART;TZID=Europe/Berlin:20250512T170000
DTEND;TZID=Europe/Berlin:20250512T200000
DTSTAMP:20260422T142758
CREATED:20250423T174859Z
LAST-MODIFIED:20250423T175210Z
UID:1332-1747069200-1747080000@www.viktoria-alpen-tennis.de
SUMMARY:Arbeitseinsatz
DESCRIPTION:Meldungen an Gian Luca Gräfenstein unter 0163-2948019
URL:https://www.viktoria-alpen-tennis.de/veranstaltung/arbeitseinsatz-10/
CATEGORIES:Events im Club,Medenspiele/Pokal,Spielbetrieb,Veranstaltung
END:VEVENT
BEGIN:VEVENT
DTSTART;TZID=Europe/Berlin:20250517T103000
DTEND;TZID=Europe/Berlin:20250517T123000
DTSTAMP:20260422T142758
CREATED:20250408T140842Z
LAST-MODIFIED:20250408T140842Z
UID:2152-1747477800-1747485000@www.viktoria-alpen-tennis.de
SUMMARY:Samstagsvormittagstennis
DESCRIPTION:Einfach vorbeikommen und in ungezwungener Atmosphäre ein bisschen Tennis spielen. Erfahrene Spieler sind in der Regel dabei\, kommt einfach ohne Anmeldung. Bei Fragen wendet ihr euch an Stephan Max\, 0175-2796617
URL:https://www.viktoria-alpen-tennis.de/veranstaltung/samstagsvormittagstennis-14/
CATEGORIES:Events im Club,Medenspiele/Pokal,Spielbetrieb,Veranstaltung
END:VEVENT
BEGIN:VEVENT
DTSTART;TZID=Europe/Berlin:20250517T140000
DTEND;TZID=Europe/Berlin:20250517T210000
DTSTAMP:20260422T142758
CREATED:20250327T203112Z
LAST-MODIFIED:20250327T203112Z
UID:2072-1747490400-1747515600@www.viktoria-alpen-tennis.de
SUMMARY:Heimspiel Damen 40
DESCRIPTION:
URL:https://www.viktoria-alpen-tennis.de/veranstaltung/heimspiel-damen-40-3/
CATEGORIES:Medenspiele/Pokal,Spielbetrieb,Veranstaltung
END:VEVENT
BEGIN:VEVENT
DTSTART;TZID=Europe/Berlin:20250517T140000
DTEND;TZID=Europe/Berlin:20250517T210000
DTSTAMP:20260422T142758
CREATED:20250327T210952Z
LAST-MODIFIED:20250327T210952Z
UID:2095-1747490400-1747515600@www.viktoria-alpen-tennis.de
SUMMARY:Heimspiel Damen 50
DESCRIPTION:
URL:https://www.viktoria-alpen-tennis.de/veranstaltung/heimspiel-damen-50-4/
CATEGORIES:Medenspiele/Pokal,Spielbetrieb,Veranstaltung
END:VEVENT
BEGIN:VEVENT
DTSTART;TZID=Europe/Berlin:20250518T090000
DTEND;TZID=Europe/Berlin:20250518T140000
DTSTAMP:20260422T142758
CREATED:20250327T210720Z
LAST-MODIFIED:20250327T210720Z
UID:2087-1747558800-1747576800@www.viktoria-alpen-tennis.de
SUMMARY:Heimspiel Herren 1
DESCRIPTION:
URL:https://www.viktoria-alpen-tennis.de/veranstaltung/heimspiel-herren-1/
CATEGORIES:Medenspiele/Pokal,Spielbetrieb,Veranstaltung
END:VEVENT
BEGIN:VEVENT
DTSTART;TZID=Europe/Berlin:20250520T100000
DTEND;TZID=Europe/Berlin:20250520T150000
DTSTAMP:20260422T142758
CREATED:20250327T202402Z
LAST-MODIFIED:20250327T202402Z
UID:2054-1747735200-1747753200@www.viktoria-alpen-tennis.de
SUMMARY:Heimspiel Herren 65
DESCRIPTION:
URL:https://www.viktoria-alpen-tennis.de/veranstaltung/heimspiel-herren-65-8/
CATEGORIES:Medenspiele/Pokal,Spielbetrieb,Veranstaltung
END:VEVENT
BEGIN:VEVENT
DTSTART;TZID=Europe/Berlin:20250524T103000
DTEND;TZID=Europe/Berlin:20250524T123000
DTSTAMP:20260422T142758
CREATED:20250408T140920Z
LAST-MODIFIED:20250408T140920Z
UID:2154-1748082600-1748089800@www.viktoria-alpen-tennis.de
SUMMARY:Samstagsvormittagstennis
DESCRIPTION:Einfach vorbeikommen und in ungezwungener Atmosphäre ein bisschen Tennis spielen. Erfahrene Spieler sind in der Regel dabei\, kommt einfach ohne Anmeldung. Bei Fragen wendet ihr euch an Stephan Max\, 0175-2796617
URL:https://www.viktoria-alpen-tennis.de/veranstaltung/samstagsvormittagstennis-15/
CATEGORIES:Events im Club,Medenspiele/Pokal,Spielbetrieb,Veranstaltung
END:VEVENT
BEGIN:VEVENT
DTSTART;TZID=Europe/Berlin:20250524T140000
DTEND;TZID=Europe/Berlin:20250524T200000
DTSTAMP:20260422T142758
CREATED:20250327T202532Z
LAST-MODIFIED:20250327T202718Z
UID:2058-1748095200-1748116800@www.viktoria-alpen-tennis.de
SUMMARY:Heimspiel Damen 30
DESCRIPTION:
URL:https://www.viktoria-alpen-tennis.de/veranstaltung/heimspiel-damen-1/
CATEGORIES:Medenspiele/Pokal,Spielbetrieb,Veranstaltung
END:VEVENT
BEGIN:VEVENT
DTSTART;TZID=Europe/Berlin:20250524T140000
DTEND;TZID=Europe/Berlin:20250524T210000
DTSTAMP:20260422T142758
CREATED:20250327T211033Z
LAST-MODIFIED:20250327T211033Z
UID:2097-1748095200-1748120400@www.viktoria-alpen-tennis.de
SUMMARY:Heimspiel Herren 50
DESCRIPTION:
URL:https://www.viktoria-alpen-tennis.de/veranstaltung/heimspiel-herren-50-5/
CATEGORIES:Medenspiele/Pokal,Spielbetrieb,Veranstaltung
END:VEVENT
BEGIN:VEVENT
DTSTART;TZID=Europe/Berlin:20250525T090000
DTEND;TZID=Europe/Berlin:20250525T140000
DTSTAMP:20260422T142758
CREATED:20250327T210401Z
LAST-MODIFIED:20250327T210401Z
UID:2077-1748163600-1748181600@www.viktoria-alpen-tennis.de
SUMMARY:Heimspiel Herren 30 1
DESCRIPTION:
URL:https://www.viktoria-alpen-tennis.de/veranstaltung/heimspiel-herren-30-1/
CATEGORIES:Medenspiele/Pokal,Spielbetrieb,Veranstaltung
END:VEVENT
BEGIN:VEVENT
DTSTART;TZID=Europe/Berlin:20250525T090000
DTEND;TZID=Europe/Berlin:20250525T140000
DTSTAMP:20260422T142758
CREATED:20250327T210535Z
LAST-MODIFIED:20250327T210535Z
UID:2081-1748163600-1748181600@www.viktoria-alpen-tennis.de
SUMMARY:Heimspiel Herren 30 2
DESCRIPTION:
URL:https://www.viktoria-alpen-tennis.de/veranstaltung/heimspiel-herren-30-2-2/
CATEGORIES:Medenspiele/Pokal,Spielbetrieb,Veranstaltung
END:VEVENT
BEGIN:VEVENT
DTSTART;TZID=Europe/Berlin:20250531T103000
DTEND;TZID=Europe/Berlin:20250531T123000
DTSTAMP:20260422T142758
CREATED:20250408T140949Z
LAST-MODIFIED:20250408T140949Z
UID:2156-1748687400-1748694600@www.viktoria-alpen-tennis.de
SUMMARY:Samstagsvormittagstennis
DESCRIPTION:Einfach vorbeikommen und in ungezwungener Atmosphäre ein bisschen Tennis spielen. Erfahrene Spieler sind in der Regel dabei\, kommt einfach ohne Anmeldung. Bei Fragen wendet ihr euch an Stephan Max\, 0175-2796617
URL:https://www.viktoria-alpen-tennis.de/veranstaltung/samstagsvormittagstennis-16/
CATEGORIES:Events im Club,Medenspiele/Pokal,Spielbetrieb,Veranstaltung
END:VEVENT
BEGIN:VEVENT
DTSTART;TZID=Europe/Berlin:20250531T140000
DTEND;TZID=Europe/Berlin:20250531T200000
DTSTAMP:20260422T142758
CREATED:20250327T202607Z
LAST-MODIFIED:20250327T202747Z
UID:2060-1748700000-1748721600@www.viktoria-alpen-tennis.de
SUMMARY:Heimspiel Damen 30
DESCRIPTION:
URL:https://www.viktoria-alpen-tennis.de/veranstaltung/heimspiel-damen-1-2/
CATEGORIES:Medenspiele/Pokal,Spielbetrieb,Veranstaltung
END:VEVENT
BEGIN:VEVENT
DTSTART;TZID=Europe/Berlin:20250531T140000
DTEND;TZID=Europe/Berlin:20250531T210000
DTSTAMP:20260422T142758
CREATED:20250327T211138Z
LAST-MODIFIED:20250327T211138Z
UID:2101-1748700000-1748725200@www.viktoria-alpen-tennis.de
SUMMARY:Heimspiel Herren 55
DESCRIPTION:
URL:https://www.viktoria-alpen-tennis.de/veranstaltung/heimspiel-herren-55/
CATEGORIES:Medenspiele/Pokal,Spielbetrieb,Veranstaltung
END:VEVENT
END:VCALENDAR