BEGIN:VCALENDAR
VERSION:2.0
PRODID:-//Viktoria Alpen Tennis - ECPv6.3.7//NONSGML v1.0//EN
CALSCALE:GREGORIAN
METHOD:PUBLISH
X-ORIGINAL-URL:https://www.viktoria-alpen-tennis.de
X-WR-CALDESC:Veranstaltungen für Viktoria Alpen Tennis
REFRESH-INTERVAL;VALUE=DURATION:PT1H
X-Robots-Tag:noindex
X-PUBLISHED-TTL:PT1H
BEGIN:VTIMEZONE
TZID:Europe/Berlin
BEGIN:DAYLIGHT
TZOFFSETFROM:+0100
TZOFFSETTO:+0200
TZNAME:CEST
DTSTART:20240331T010000
END:DAYLIGHT
BEGIN:STANDARD
TZOFFSETFROM:+0200
TZOFFSETTO:+0100
TZNAME:CET
DTSTART:20241027T010000
END:STANDARD
END:VTIMEZONE
BEGIN:VEVENT
DTSTART;TZID=Europe/Berlin:20240729T100000
DTEND;TZID=Europe/Berlin:20240801T150000
DTSTAMP:20260421T160815
CREATED:20240404T201053Z
LAST-MODIFIED:20240723T084157Z
UID:1682-1722247200-1722524400@www.viktoria-alpen-tennis.de
SUMMARY:Tenniscamp
DESCRIPTION:Für Kinder und Jugendliche\, Tennisschule Lothar Walter
URL:https://www.viktoria-alpen-tennis.de/veranstaltung/tenniscamp-2/
CATEGORIES:Spielbetrieb,Veranstaltung
END:VEVENT
BEGIN:VEVENT
DTSTART;TZID=Europe/Berlin:20240805T080000
DTEND;TZID=Europe/Berlin:20240831T200000
DTSTAMP:20260421T160815
CREATED:20240404T201426Z
LAST-MODIFIED:20240404T201426Z
UID:1688-1722844800-1725134400@www.viktoria-alpen-tennis.de
SUMMARY:Teamcup
DESCRIPTION:
URL:https://www.viktoria-alpen-tennis.de/veranstaltung/teamcup/
CATEGORIES:Spielbetrieb,Veranstaltung
END:VEVENT
BEGIN:VEVENT
DTSTART;TZID=Europe/Berlin:20240807T100000
DTEND;TZID=Europe/Berlin:20240807T140000
DTSTAMP:20260421T160815
CREATED:20240418T114859Z
LAST-MODIFIED:20240418T115140Z
UID:1759-1723024800-1723039200@www.viktoria-alpen-tennis.de
SUMMARY:Damen Mühlerunde
DESCRIPTION:
URL:https://www.viktoria-alpen-tennis.de/veranstaltung/heimspiel-u-15-junioren-2/
CATEGORIES:Medenspiele/Pokal,Spielbetrieb,Veranstaltung
END:VEVENT
BEGIN:VEVENT
DTSTART;TZID=Europe/Berlin:20240821T093000
DTEND;TZID=Europe/Berlin:20240821T150000
DTSTAMP:20260421T160815
CREATED:20240416T180626Z
LAST-MODIFIED:20240416T180626Z
UID:1717-1724232600-1724252400@www.viktoria-alpen-tennis.de
SUMMARY:H Mühlerunde
DESCRIPTION:
URL:https://www.viktoria-alpen-tennis.de/veranstaltung/h-muehlerunde-2/
CATEGORIES:Medenspiele/Pokal,Spielbetrieb,Veranstaltung
END:VEVENT
BEGIN:VEVENT
DTSTART;TZID=Europe/Berlin:20240821T100000
DTEND;TZID=Europe/Berlin:20240821T140000
DTSTAMP:20260421T160815
CREATED:20240418T115250Z
LAST-MODIFIED:20240418T115250Z
UID:1763-1724234400-1724248800@www.viktoria-alpen-tennis.de
SUMMARY:Damen Mühlerunde
DESCRIPTION:
URL:https://www.viktoria-alpen-tennis.de/veranstaltung/damen-muehlerunde/
CATEGORIES:Medenspiele/Pokal,Spielbetrieb,Veranstaltung
END:VEVENT
BEGIN:VEVENT
DTSTART;TZID=Europe/Berlin:20240831T190000
DTEND;TZID=Europe/Berlin:20240831T230000
DTSTAMP:20260421T160815
CREATED:20240404T201249Z
LAST-MODIFIED:20240404T201250Z
UID:1686-1725130800-1725145200@www.viktoria-alpen-tennis.de
SUMMARY:Teamcup Finalparty
DESCRIPTION:
URL:https://www.viktoria-alpen-tennis.de/veranstaltung/teamcup-finalparty/
CATEGORIES:Events im Club,Veranstaltung
END:VEVENT
END:VCALENDAR