BEGIN:VCALENDAR
VERSION:2.0
PRODID:-//Viktoria Alpen Tennis - ECPv6.3.7//NONSGML v1.0//EN
CALSCALE:GREGORIAN
METHOD:PUBLISH
X-WR-CALNAME:Viktoria Alpen Tennis
X-ORIGINAL-URL:https://www.viktoria-alpen-tennis.de
X-WR-CALDESC:Veranstaltungen für Viktoria Alpen Tennis
REFRESH-INTERVAL;VALUE=DURATION:PT1H
X-Robots-Tag:noindex
X-PUBLISHED-TTL:PT1H
BEGIN:VTIMEZONE
TZID:Europe/Berlin
BEGIN:DAYLIGHT
TZOFFSETFROM:+0100
TZOFFSETTO:+0200
TZNAME:CEST
DTSTART:20250330T010000
END:DAYLIGHT
BEGIN:STANDARD
TZOFFSETFROM:+0200
TZOFFSETTO:+0100
TZNAME:CET
DTSTART:20251026T010000
END:STANDARD
END:VTIMEZONE
BEGIN:VEVENT
DTSTART;TZID=Europe/Berlin:20250525T090000
DTEND;TZID=Europe/Berlin:20250525T140000
DTSTAMP:20260421T105322
CREATED:20250327T210401Z
LAST-MODIFIED:20250327T210401Z
UID:2077-1748163600-1748181600@www.viktoria-alpen-tennis.de
SUMMARY:Heimspiel Herren 30 1
DESCRIPTION:
URL:https://www.viktoria-alpen-tennis.de/veranstaltung/heimspiel-herren-30-1/
CATEGORIES:Medenspiele/Pokal,Spielbetrieb,Veranstaltung
END:VEVENT
BEGIN:VEVENT
DTSTART;TZID=Europe/Berlin:20250525T090000
DTEND;TZID=Europe/Berlin:20250525T140000
DTSTAMP:20260421T105322
CREATED:20250327T210535Z
LAST-MODIFIED:20250327T210535Z
UID:2081-1748163600-1748181600@www.viktoria-alpen-tennis.de
SUMMARY:Heimspiel Herren 30 2
DESCRIPTION:
URL:https://www.viktoria-alpen-tennis.de/veranstaltung/heimspiel-herren-30-2-2/
CATEGORIES:Medenspiele/Pokal,Spielbetrieb,Veranstaltung
END:VEVENT
END:VCALENDAR