BEGIN:VCALENDAR
VERSION:2.0
PRODID:-//Viktoria Alpen Tennis - ECPv6.3.7//NONSGML v1.0//EN
CALSCALE:GREGORIAN
METHOD:PUBLISH
X-ORIGINAL-URL:https://www.viktoria-alpen-tennis.de
X-WR-CALDESC:Veranstaltungen für Viktoria Alpen Tennis
REFRESH-INTERVAL;VALUE=DURATION:PT1H
X-Robots-Tag:noindex
X-PUBLISHED-TTL:PT1H
BEGIN:VTIMEZONE
TZID:Europe/Berlin
BEGIN:DAYLIGHT
TZOFFSETFROM:+0100
TZOFFSETTO:+0200
TZNAME:CEST
DTSTART:20240331T010000
END:DAYLIGHT
BEGIN:STANDARD
TZOFFSETFROM:+0200
TZOFFSETTO:+0100
TZNAME:CET
DTSTART:20241027T010000
END:STANDARD
END:VTIMEZONE
BEGIN:VEVENT
DTSTART;TZID=Europe/Berlin:20240629T103000
DTEND;TZID=Europe/Berlin:20240629T123000
DTSTAMP:20260421T225734
CREATED:20240404T200820Z
LAST-MODIFIED:20240404T200820Z
UID:1678-1719657000-1719664200@www.viktoria-alpen-tennis.de
SUMMARY:Samstagsvormittagstennis
DESCRIPTION:Üben mit erfahrenen Medenspielern. Jeder ist willkommen.
URL:https://www.viktoria-alpen-tennis.de/veranstaltung/samstagsvormittagstennis-9/
CATEGORIES:Events im Club,Spielbetrieb,Veranstaltung
END:VEVENT
BEGIN:VEVENT
DTSTART;TZID=Europe/Berlin:20240629T140000
DTEND;TZID=Europe/Berlin:20240629T200000
DTSTAMP:20260421T225734
CREATED:20240404T192852Z
LAST-MODIFIED:20240404T192852Z
UID:1616-1719669600-1719691200@www.viktoria-alpen-tennis.de
SUMMARY:Heimspiel Damen offen
DESCRIPTION:Gegner: SV Budberg
URL:https://www.viktoria-alpen-tennis.de/veranstaltung/heimspiel-damen-offen-2/
CATEGORIES:Medenspiele/Pokal,Spielbetrieb
END:VEVENT
BEGIN:VEVENT
DTSTART;TZID=Europe/Berlin:20240629T140000
DTEND;TZID=Europe/Berlin:20240629T200000
DTSTAMP:20260421T225734
CREATED:20240404T193934Z
LAST-MODIFIED:20240404T193934Z
UID:1638-1719669600-1719691200@www.viktoria-alpen-tennis.de
SUMMARY:Heimspiel Herren 40
DESCRIPTION:Gegner: TC Schpahuysen
URL:https://www.viktoria-alpen-tennis.de/veranstaltung/heimspiel-herren-40-2/
CATEGORIES:Medenspiele/Pokal,Spielbetrieb
END:VEVENT
END:VCALENDAR